BEGIN:VCALENDAR
VERSION:2.0
PRODID:-//Tsillan Cellars - ECPv6.15.20//NONSGML v1.0//EN
CALSCALE:GREGORIAN
METHOD:PUBLISH
X-ORIGINAL-URL:https://tsillancellars.com
X-WR-CALDESC:Events for Tsillan Cellars
REFRESH-INTERVAL;VALUE=DURATION:PT1H
X-Robots-Tag:noindex
X-PUBLISHED-TTL:PT1H
BEGIN:VTIMEZONE
TZID:UTC
BEGIN:STANDARD
TZOFFSETFROM:+0000
TZOFFSETTO:+0000
TZNAME:UTC
DTSTART:20220101T000000
END:STANDARD
END:VTIMEZONE
BEGIN:VEVENT
DTSTART;TZID=UTC:20231202T130000
DTEND;TZID=UTC:20231202T160000
DTSTAMP:20260421T211601
CREATED:20230926T180341Z
LAST-MODIFIED:20230926T182607Z
UID:43700-1701522000-1701532800@tsillancellars.com
SUMMARY:Concert Series Live Music: Whisky Trail
DESCRIPTION:Join us for an afternoon of live music\, wine and charcuterie\, as Whisky Trail Band shares an entertaining\, country-rock inspired set! In the tasting room from 1-4pm. Sip wine and order a charcuterie board\, bring your family and friends for a fun afternoon! No RSVP needed.
URL:https://tsillancellars.com/event/live-music-whisky-trail-2/
LOCATION:Tsillan Cellars Tasting Room
CATEGORIES:Chelan
ATTACH;FMTTYPE=image/jpeg:https://tsillancellars.com/wp-content/uploads/2017/06/MusicUndertheVinesTsillanCellarsEmilyMollerPhotographyLakeChelanPhotographer-132-scaled.jpg
END:VEVENT
END:VCALENDAR