BEGIN:VCALENDAR
VERSION:2.0
PRODID:-//Tsillan Cellars - ECPv6.15.20//NONSGML v1.0//EN
CALSCALE:GREGORIAN
METHOD:PUBLISH
X-ORIGINAL-URL:https://tsillancellars.com
X-WR-CALDESC:Events for Tsillan Cellars
REFRESH-INTERVAL;VALUE=DURATION:PT1H
X-Robots-Tag:noindex
X-PUBLISHED-TTL:PT1H
BEGIN:VTIMEZONE
TZID:UTC
BEGIN:STANDARD
TZOFFSETFROM:+0000
TZOFFSETTO:+0000
TZNAME:UTC
DTSTART:20230101T000000
END:STANDARD
END:VTIMEZONE
BEGIN:VEVENT
DTSTART;VALUE=DATE:20240112
DTEND;VALUE=DATE:20240115
DTSTAMP:20260421T193615
CREATED:20231218T190031Z
LAST-MODIFIED:20231218T190109Z
UID:43810-1705017600-1705276799@tsillancellars.com
SUMMARY:Winterfest Button Offer
DESCRIPTION:It’s Winterfest time once again in Lake Chelan! \nHave your Winterfest button? Head to Tsillan Cellars & Sorrento’s to take advantage of these great button offers! \n\n10% Off select wines\nA complimentary wine tasting\nUp to 20% OFF merchandise\n$60 igloo rental\n10% OFF appetizers at Sorrento’s\n\nButton offers valid January 12th-21st \nFor more information on Winterfest\, click the button below! \nWinterfest Info
URL:https://tsillancellars.com/event/winterfest-button-offer/
LOCATION:Tsillan Cellars & Sorrentos Ristorante
CATEGORIES:Chelan
ATTACH;FMTTYPE=image/png:https://tsillancellars.com/wp-content/uploads/2023/12/Untitled-design-43.png
END:VEVENT
END:VCALENDAR