BEGIN:VCALENDAR
VERSION:2.0
PRODID:-//Tsillan Cellars - ECPv6.15.20//NONSGML v1.0//EN
CALSCALE:GREGORIAN
METHOD:PUBLISH
X-WR-CALNAME:Tsillan Cellars
X-ORIGINAL-URL:https://tsillancellars.com
X-WR-CALDESC:Events for Tsillan Cellars
REFRESH-INTERVAL;VALUE=DURATION:PT1H
X-Robots-Tag:noindex
X-PUBLISHED-TTL:PT1H
BEGIN:VTIMEZONE
TZID:UTC
BEGIN:STANDARD
TZOFFSETFROM:+0000
TZOFFSETTO:+0000
TZNAME:UTC
DTSTART:20230101T000000
END:STANDARD
END:VTIMEZONE
BEGIN:VEVENT
DTSTART;TZID=UTC:20240206T180000
DTEND;TZID=UTC:20240206T193000
DTSTAMP:20260421T174802
CREATED:20240111T193147Z
LAST-MODIFIED:20240117T194005Z
UID:43864-1707242400-1707247800@tsillancellars.com
SUMMARY:Swing Dance Lessons
DESCRIPTION:Grab your dancing shoes and join us for swing dance lessons with Jen Phillips. Whether you are new to dancing\, looking for a date night idea or just want something fun to do\, get your tickets now! \nThe dance lesson will take place from 6-7pm\, with dancing and practice from 7-7:30pm. \nReceive 10% OFF wine bottle purchases \nPrice: $45 per couple \nDance Lesson Dates \nTuesday\, Feb. 6th \nTuesday\, Feb. 20th \nTuesday\, Feb. 27th \nGet Tickets
URL:https://tsillancellars.com/event/swing-dance-lessons-4/
LOCATION:Tsillan Cellars & Sorrentos Ristorante
CATEGORIES:Chelan
ATTACH;FMTTYPE=image/png:https://tsillancellars.com/wp-content/uploads/2024/01/Dance-Lesons.png
END:VEVENT
BEGIN:VEVENT
DTSTART;TZID=UTC:20240220T180000
DTEND;TZID=UTC:20240220T193000
DTSTAMP:20260421T174802
CREATED:20240111T203036Z
LAST-MODIFIED:20240117T194100Z
UID:43870-1708452000-1708457400@tsillancellars.com
SUMMARY:Swing Dance Lessons
DESCRIPTION:Grab your dancing shoes and join us for swing dance lessons with Jen Phillips. Whether you are new to dancing\, looking for a date night idea or just want something fun to do\, get your tickets now! \nThe dance lesson will take place from 6-7pm\, with dancing and practice from 7-7:30pm. \nReceive 10% OFF wine bottle purchases \nPrice: $45 per couple \nDance Lesson Dates \nTuesday\, Feb. 6th \nTuesday\, Feb. 20th \nTuesday\, Feb. 27th \nGet Tickets
URL:https://tsillancellars.com/event/swing-dance-lessons-5/
LOCATION:Tsillan Cellars & Sorrentos Ristorante
CATEGORIES:Chelan
ATTACH;FMTTYPE=image/png:https://tsillancellars.com/wp-content/uploads/2024/01/Dance-Lesons.png
END:VEVENT
BEGIN:VEVENT
DTSTART;TZID=UTC:20240227T180000
DTEND;TZID=UTC:20240227T193000
DTSTAMP:20260421T174802
CREATED:20240111T203156Z
LAST-MODIFIED:20240117T193903Z
UID:43872-1709056800-1709062200@tsillancellars.com
SUMMARY:Swing Dance Lessons
DESCRIPTION:Grab your dancing shoes and join us for swing dance lessons with Jen Phillips. Whether you are new to dancing\, looking for a date night idea or just want something fun to do\, get your tickets now! \nThe dance lesson will take place from 6-7pm\, with dancing and practice from 7-7:30pm. \nReceive 10% OFF wine bottle purchases \nPrice: $45 per couple \nDance Lesson Dates \nTuesday\, Feb. 6th \nTuesday\, Feb. 20th \nTuesday\, Feb. 27th \nGet Tickets
URL:https://tsillancellars.com/event/swing-dance-lessons-6/
LOCATION:Tsillan Cellars & Sorrentos Ristorante
CATEGORIES:Chelan
ATTACH;FMTTYPE=image/png:https://tsillancellars.com/wp-content/uploads/2024/01/Dance-Lesons.png
END:VEVENT
END:VCALENDAR