BEGIN:VCALENDAR
VERSION:2.0
PRODID:-//Tsillan Cellars - ECPv6.15.20//NONSGML v1.0//EN
CALSCALE:GREGORIAN
METHOD:PUBLISH
X-ORIGINAL-URL:https://tsillancellars.com
X-WR-CALDESC:Events for Tsillan Cellars
REFRESH-INTERVAL;VALUE=DURATION:PT1H
X-Robots-Tag:noindex
X-PUBLISHED-TTL:PT1H
BEGIN:VTIMEZONE
TZID:UTC
BEGIN:STANDARD
TZOFFSETFROM:+0000
TZOFFSETTO:+0000
TZNAME:UTC
DTSTART:20240101T000000
END:STANDARD
END:VTIMEZONE
BEGIN:VEVENT
DTSTART;TZID=UTC:20250503T130000
DTEND;TZID=UTC:20250503T160000
DTSTAMP:20260421T231840
CREATED:20250416T204926Z
LAST-MODIFIED:20250416T204926Z
UID:44635-1746277200-1746288000@tsillancellars.com
SUMMARY:Live Music: Joy Ride
DESCRIPTION:Join us for live music! Joy Ride will be performing on the island from 1-4pm.
URL:https://tsillancellars.com/event/live-music-joy-ride/
LOCATION:Tsillan Cellars
CATEGORIES:Chelan
END:VEVENT
BEGIN:VEVENT
DTSTART;TZID=UTC:20250507T180000
DTEND;TZID=UTC:20250507T200000
DTSTAMP:20260421T231840
CREATED:20250402T220718Z
LAST-MODIFIED:20250402T224307Z
UID:44613-1746640800-1746648000@tsillancellars.com
SUMMARY:WOODINVILLE: Mother's Day Glassy Baby Floral Centerpiece Class
DESCRIPTION:Join us for a special event to create a one-of-a-kind centerpiece just in time to gift (or keep) for Mother’s Day! Enjoy Tsillan Cellars wine by the bottle and glass while you craft your centerpiece! Includes personalized floral instruction\, all floral supplies\, Glassbaby votive\, floral materials\, and apron. Florals and votive colors may vary based on availability. \nTIME: 6 pm check in\, 6:15 – 8 pm instruction \nWe will be offering limited items from our kitchen menu for purchase until 6:30pm \nTickets and more info available here!
URL:https://tsillancellars.com/event/mothers-day-glass-baby-floral-center-piece-class/
LOCATION:Tsillan Cellars Woodinville\, 13550 NE Village Square Drive\, Unit 1070\, Woodinville\, 98072\, United States
END:VEVENT
BEGIN:VEVENT
DTSTART;TZID=UTC:20250510T120000
DTEND;TZID=UTC:20250510T160000
DTSTAMP:20260421T231840
CREATED:20250416T210939Z
LAST-MODIFIED:20250424T221517Z
UID:44644-1746878400-1746892800@tsillancellars.com
SUMMARY:Spring Market
DESCRIPTION:Come by the Saturday of Mother’s Day weekend and shop and support small local businesses at the Spring Market! We will have amazing vendors selling their unique and hand crafted products right here at the winery. \nList of participating vendors: \nGilded Moon \nCastelight Candles \nNoé Fresh \nFinding the Joy \nCK Silver \nAJ Laser Design \nArbonne \nJessica Bradley Fabrics \nA lil knotty \nKathleen Hurlbert Jewelry \nSquachi \nChelan Valley Botanicals \nMargie Fondse Garden Art \nAnvil Creations \nChelan Links Permanent Jewelry
URL:https://tsillancellars.com/event/spring-market-3/
LOCATION:Tsillan Cellars
CATEGORIES:Chelan
ATTACH;FMTTYPE=image/png:https://tsillancellars.com/wp-content/uploads/2023/04/Copy-of-Spring-Market-Instagram-Story.png
END:VEVENT
BEGIN:VEVENT
DTSTART;TZID=UTC:20250510T130000
DTEND;TZID=UTC:20250510T160000
DTSTAMP:20260421T231840
CREATED:20250416T205053Z
LAST-MODIFIED:20250416T205053Z
UID:44637-1746882000-1746892800@tsillancellars.com
SUMMARY:Live Music: Big Sax Daddy
DESCRIPTION:Join us for live music from 1-4pm!
URL:https://tsillancellars.com/event/live-music-big-sax-daddy-2/
LOCATION:Tsillan Cellars
CATEGORIES:Chelan
END:VEVENT
BEGIN:VEVENT
DTSTART;TZID=UTC:20250510T150000
DTEND;TZID=UTC:20250510T170000
DTSTAMP:20260421T231840
CREATED:20250324T221516Z
LAST-MODIFIED:20250425T140501Z
UID:44591-1746889200-1746896400@tsillancellars.com
SUMMARY:2024 Vintage Preview - CHELAN
DESCRIPTION:At the Vintage Preview\, you’ll have an exclusive first look — and first taste — of our highly anticipated 2024 white wine and rosé vintage. This is your unique opportunity to sample these exciting new wines and secure your favorites before their official release. \nYou will also have the exclusive opportunity to experience a vertical tasting of our 2022\, 2023 and 2024 Estate Riesling! \nJoin Head Winemaker Garrett Grubbs and Vineyard Manager & Assistant Winemaker Nic Stevens as they share their insights\, expertise\, and behind-the-scenes stories behind this exceptional vintage. \nTicket Includes: \nA taste of each wine from the new vintage\, a vertical tasting of the Estate Riesling\, charcuterie grazing board and access to purchase unreleased wines. Wines to be presented by Head Winemaker Garrett Grubbs. \nPrice: \n$75 – Wine Club Member \n$90 – Non-Member \nWe are excited to bring the Vintage Preview to both Chelan and Woodinville! \nChelan \nSaturday\, May 10th at 3 PM \n(max 40 people) \nWoodinville \nFriday\, May 16th at 6:30 PM \n(max 24 people) \nGet Tickets
URL:https://tsillancellars.com/event/2024-vintage-preview-chelan/
LOCATION:Tsillan Cellars
CATEGORIES:Chelan
ATTACH;FMTTYPE=image/jpeg:https://tsillancellars.com/wp-content/uploads/2025/04/IMG_1664-scaled.jpg
END:VEVENT
BEGIN:VEVENT
DTSTART;TZID=UTC:20250511T110000
DTEND;TZID=UTC:20250511T150000
DTSTAMP:20260421T231840
CREATED:20250416T210703Z
LAST-MODIFIED:20250416T210703Z
UID:44642-1746961200-1746975600@tsillancellars.com
SUMMARY:Mother's Day Brunch
DESCRIPTION:Celebrate the amazing moms in your life with a special Mother’s Day Brunch on Sunday\, May 11th. Savor a delightful brunch buffet and a refreshing mimosa while soaking in the vibrant blooms and the beauty of our awakening vineyards—it’s the perfect setting for a memorable Mother’s Day.\n\nMake your reservations today by calling 509-682-9463 or clicking the button below.\n\nMake Reservations
URL:https://tsillancellars.com/event/mothers-day-brunch-3/
LOCATION:Sorrento’s Ristorante\, 3875 US Highway 97a\, Chelan\, WA\, 98816-8784\, United States
CATEGORIES:Chelan
ATTACH;FMTTYPE=image/jpeg:https://tsillancellars.com/wp-content/uploads/2024/04/brunch_6-scaled-e1712597864242.jpg
END:VEVENT
BEGIN:VEVENT
DTSTART;TZID=UTC:20250511T120000
DTEND;TZID=UTC:20250511T170000
DTSTAMP:20260421T231840
CREATED:20250403T213055Z
LAST-MODIFIED:20250403T213055Z
UID:44625-1746964800-1746982800@tsillancellars.com
SUMMARY:WOODINVILLE: Mother's Day Sip & Shop
DESCRIPTION:Treat mom to an afternoon of sipping and shopping in our Woodinville Tasting roomand spoil her with gifts from some of our favorite vendors!\n\nIncluding:\n– door prizes for the first 12 moms!\n– all mom’s will get a bubbly welcome pour\n– & specialty menu items available\n\nPlease note we will have limited seating during this event!
URL:https://tsillancellars.com/event/woodinville-mothers-day-sip-shop/
LOCATION:Tsillan Cellars Woodinville\, 13550 NE Village Square Drive\, Unit 1070\, Woodinville\, 98072\, United States
END:VEVENT
BEGIN:VEVENT
DTSTART;TZID=UTC:20250516T183000
DTEND;TZID=UTC:20250516T203000
DTSTAMP:20260421T231840
CREATED:20250425T140126Z
LAST-MODIFIED:20250425T140520Z
UID:44654-1747420200-1747427400@tsillancellars.com
SUMMARY:2024 Vintage Preview - WOODINVILLE
DESCRIPTION:At the Vintage Preview\, you’ll have an exclusive first look — and first taste — of our highly anticipated 2024 white wine and rosé vintage. This is your unique opportunity to sample these exciting new wines and secure your favorites before their official release. \nYou will also have the exclusive opportunity to experience a vertical tasting of our 2022\, 2023 and 2024 Estate Riesling! \nJoin Head Winemaker Garrett Grubbs and Vineyard Manager & Assistant Winemaker Nic Stevens as they share their insights\, expertise\, and behind-the-scenes stories behind this exceptional vintage. \nTicket Includes: \nA taste of each wine from the new vintage\, a vertical tasting of the Estate Riesling\, charcuterie grazing board and access to purchase unreleased wines. Wines to be presented by Head Winemaker Garrett Grubbs. \n  \nPrice: \n$75 – Wine Club Member \n$90 – Non-Member \n  \nWe are excited to bring the Vintage Preview to both Chelan and Woodinville! \nChelan \nSaturday\, May 10th at 3 PM \n(max 40 people) \nWoodinville \nFriday\, May 16th at 6:30 PM \n(max 24 people) \nGet Tickets
URL:https://tsillancellars.com/event/2024-vintage-preview-woodinville/
LOCATION:Tsillan Cellars Woodinville\, 13550 NE Village Square Drive\, Unit 1070\, Woodinville\, 98072\, United States
CATEGORIES:Woodinville
ATTACH;FMTTYPE=image/jpeg:https://tsillancellars.com/wp-content/uploads/2025/04/IMG_1664-scaled.jpg
END:VEVENT
BEGIN:VEVENT
DTSTART;VALUE=DATE:20250517
DTEND;VALUE=DATE:20250518
DTSTAMP:20260421T231840
CREATED:20250416T211149Z
LAST-MODIFIED:20250416T211222Z
UID:44648-1747440000-1747526399@tsillancellars.com
SUMMARY:Sorrento's Closed
DESCRIPTION:
URL:https://tsillancellars.com/event/tasting-room-and-sorrentos-closed-for-private-event/
LOCATION:Tsillan Cellars & Sorrentos Ristorante
CATEGORIES:Chelan
END:VEVENT
BEGIN:VEVENT
DTSTART;TZID=UTC:20250523T050000
DTEND;TZID=UTC:20250523T190000
DTSTAMP:20260421T231840
CREATED:20250514T232632Z
LAST-MODIFIED:20250514T232632Z
UID:44748-1747976400-1748026800@tsillancellars.com
SUMMARY:WOODINVILLE: Live Music Fridays
DESCRIPTION: Join us on Fridays from 5-7pm to hear some of our favorite local musicians! \nWine is available by the glass and bottle and our kitchen is available until 6! Tsillan Cellars Wine Club members are welcome to call and make reservations to save their seats for the evening! \nSee who’s playing this month! \n5/23 – Sherry Muchira \n5/30 – Ian Skavdahl \n6/6 – Michael Scott \n6/13 – Kristen Marlo \nMembers\, to make reservations\, please call (425) 482-5976
URL:https://tsillancellars.com/event/woodinville-live-music-fridays/
LOCATION:Tsillan Cellars Woodinville\, 13550 NE Village Square Drive\, Unit 1070\, Woodinville\, 98072\, United States
END:VEVENT
BEGIN:VEVENT
DTSTART;TZID=UTC:20250524T130000
DTEND;TZID=UTC:20250524T160000
DTSTAMP:20260421T231840
CREATED:20250416T211039Z
LAST-MODIFIED:20250416T211039Z
UID:44646-1748091600-1748102400@tsillancellars.com
SUMMARY:Live Music: Full Vinyl Jacket
DESCRIPTION:Join us for live music from 1-4pm!
URL:https://tsillancellars.com/event/live-music-full-vinyl-jacket/
LOCATION:Tsillan Cellars
CATEGORIES:Chelan
END:VEVENT
BEGIN:VEVENT
DTSTART;TZID=UTC:20250530T170000
DTEND;TZID=UTC:20250530T190000
DTSTAMP:20260421T231840
CREATED:20250515T001904Z
LAST-MODIFIED:20250515T001904Z
UID:44755-1748624400-1748631600@tsillancellars.com
SUMMARY:WOODINVILLE: Live Music Fridays
DESCRIPTION:Join us on Fridays from 5-7pm to hear some of our favorite local musicians! \nWine is available by the glass and bottle and our kitchen is available until 6! Tsillan Cellars Wine Club members are welcome to call and make reservations to save their seats for the evening! \nSee who’s playing this month! \n5/23 – Sherry Muchira \n5/30 – Ian Skavdahl \n6/6 – Michael Scott \n6/13 – Kristen Marlo \nMembers\, to make reservations\, please call (425) 482-5976
URL:https://tsillancellars.com/event/woodinville-live-music-fridays-4/
LOCATION:Tsillan Cellars Woodinville\, 13550 NE Village Square Drive\, Unit 1070\, Woodinville\, 98072\, United States
END:VEVENT
BEGIN:VEVENT
DTSTART;TZID=UTC:20250531T130000
DTEND;TZID=UTC:20250531T160000
DTSTAMP:20260421T231840
CREATED:20250416T205250Z
LAST-MODIFIED:20250416T205250Z
UID:44639-1748696400-1748707200@tsillancellars.com
SUMMARY:Live Music: Chris Anderson
DESCRIPTION:Join us for live music from 1-4pm!
URL:https://tsillancellars.com/event/live-music-chris-anderson-4/
LOCATION:Tsillan Cellars
CATEGORIES:Chelan
END:VEVENT
END:VCALENDAR