BEGIN:VCALENDAR
VERSION:2.0
PRODID:-//Tsillan Cellars - ECPv6.15.20//NONSGML v1.0//EN
CALSCALE:GREGORIAN
METHOD:PUBLISH
X-WR-CALNAME:Tsillan Cellars
X-ORIGINAL-URL:https://tsillancellars.com
X-WR-CALDESC:Events for Tsillan Cellars
REFRESH-INTERVAL;VALUE=DURATION:PT1H
X-Robots-Tag:noindex
X-PUBLISHED-TTL:PT1H
BEGIN:VTIMEZONE
TZID:UTC
BEGIN:STANDARD
TZOFFSETFROM:+0000
TZOFFSETTO:+0000
TZNAME:UTC
DTSTART:20240101T000000
END:STANDARD
END:VTIMEZONE
BEGIN:VEVENT
DTSTART;TZID=UTC:20250606T170000
DTEND;TZID=UTC:20250606T190000
DTSTAMP:20260421T213308
CREATED:20250514T232821Z
LAST-MODIFIED:20250514T232933Z
UID:44751-1749229200-1749236400@tsillancellars.com
SUMMARY:WOODINVILLE: Live Music Fridays
DESCRIPTION: Join us on Fridays from 5-7pm to hear some of our favorite local musicians! \nWine is available by the glass and bottle and our kitchen is available until 6! Tsillan Cellars Wine Club members are welcome to call and make reservations to save their seats for the evening! \nSee who’s playing this month! \n5/23 – Sherry Muchira \n5/30 – Ian Skavdahl \n6/6 – Michael Scott \n6/13 – Kristen Marlo \nMembers\, to make reservations\, please call (425) 482-5976
URL:https://tsillancellars.com/event/woodinville-live-music-fridays-2/
LOCATION:Tsillan Cellars Woodinville\, 13550 NE Village Square Drive\, Unit 1070\, Woodinville\, 98072\, United States
END:VEVENT
BEGIN:VEVENT
DTSTART;TZID=UTC:20250607T130000
DTEND;TZID=UTC:20250607T160000
DTSTAMP:20260421T213308
CREATED:20250324T222205Z
LAST-MODIFIED:20250324T222205Z
UID:44593-1749301200-1749312000@tsillancellars.com
SUMMARY:Annual Wine Club Party!
DESCRIPTION:Tickets will go on sale April 1st!
URL:https://tsillancellars.com/event/annual-wine-club-party-2/
LOCATION:Tsillan Cellars & Sorrentos Ristorante
ATTACH;FMTTYPE=image/jpeg:https://tsillancellars.com/wp-content/uploads/2024/03/Tsillan-Cellars-10.jpg
END:VEVENT
BEGIN:VEVENT
DTSTART;TZID=UTC:20250613T170000
DTEND;TZID=UTC:20250613T190000
DTSTAMP:20260421T213308
CREATED:20250514T233441Z
LAST-MODIFIED:20250514T233441Z
UID:44753-1749834000-1749841200@tsillancellars.com
SUMMARY:WOODINVILLE: Live Music Fridays
DESCRIPTION: Join us on Fridays from 5-7pm to hear some of our favorite local musicians! \nWine is available by the glass and bottle and our kitchen is available until 6! Tsillan Cellars Wine Club members are welcome to call and make reservations to save their seats for the evening! \nSee who’s playing this month! \n5/23 – Sherry Muchira \n5/30 – Ian Skavdahl \n6/6 – Michael Scott \n6/13 – Kristen Marlo \nMembers\, to make reservations\, please call (425) 482-5976
URL:https://tsillancellars.com/event/woodinville-live-music-fridays-3/
LOCATION:Tsillan Cellars Woodinville\, 13550 NE Village Square Drive\, Unit 1070\, Woodinville\, 98072\, United States
END:VEVENT
BEGIN:VEVENT
DTSTART;TZID=UTC:20250616T160000
DTEND;TZID=UTC:20250616T180000
DTSTAMP:20260421T213308
CREATED:20250507T191034Z
LAST-MODIFIED:20250507T191034Z
UID:44663-1750089600-1750096800@tsillancellars.com
SUMMARY:Music Under the Vines: Big Sax Daddy
DESCRIPTION:Join us for Music Under the Vines every Monday from 4–6 PM! Relax beneath our grapevine-covered trellis as you enjoy live music\, delightful small bites\, and your favorite Tsillan Cellars wines.
URL:https://tsillancellars.com/event/music-under-the-vines-big-sax-daddy/
LOCATION:Tsillan Cellars
CATEGORIES:Chelan
ATTACH;FMTTYPE=image/jpeg:https://tsillancellars.com/wp-content/uploads/2025/05/62A9540-Edit-scaled.jpg
END:VEVENT
BEGIN:VEVENT
DTSTART;TZID=UTC:20250619T183000
DTEND;TZID=UTC:20250619T203000
DTSTAMP:20260421T213308
CREATED:20250618T205158Z
LAST-MODIFIED:20250618T205158Z
UID:44849-1750357800-1750365000@tsillancellars.com
SUMMARY:WOODINVILLE: Music Bingo
DESCRIPTION:  \nMUSIC BINGO aka “MINGO”\nThursdays from 6:30-8:30pm starting June 19th. ~ Wine available by the glass and bottle \nThursday evenings beginning 6/19 are going to get a lot more fun! Prepare yourself for Musical Bingo fun with Mingo Maniac! “Mingo” combines the classic game of bingo with your favorite tunes for a night of friendly competition and unforgettable fun. It thrives on the social experience\, so round up your friends\, get ready to jam and win big! \nClick here for more information on how to play Mingo Maniac! (https://www.mingomaniac.com/) \nReservations are recommended for this event\, please call the tasting room: (425) 482-5976
URL:https://tsillancellars.com/event/woodinville-music-bingo/
LOCATION:Tsillan Cellars Woodinville\, 13550 NE Village Square Drive\, Unit 1070\, Woodinville\, 98072\, United States
END:VEVENT
BEGIN:VEVENT
DTSTART;TZID=UTC:20250620T170000
DTEND;TZID=UTC:20250620T200000
DTSTAMP:20260421T213308
CREATED:20250530T010929Z
LAST-MODIFIED:20250530T010929Z
UID:44801-1750438800-1750449600@tsillancellars.com
SUMMARY:WOODINVILLE: Music in the Alley
DESCRIPTION:Music in the Alley returns starting June 20th! Visit Wine Alley on Fridays from 5-8pm for live music outside. Each of the six participating Wine Alley wineries will have their patios open for guests to enjoy amazing Washington wines\, the warm Summer nights and great performances by some of our favorite local artists! \nWine Club members can call the tasting room to reserve patio seating during these evenings and our kitchen will be open until 7pm! \nCheck out the schedule to see who will be playing the Alley this year: \n6/20 – Kellie Rose\n6/27 – Gina Belliveau\n7/11 – James Coates\n7/18 – Ian Skavdahl\n7/25 – Whisky Trail\n8/1 – Kurt Lindsay w/ Gina Belliveau\n8/8 – Jaeden Luke\n8/15 – Kristen Marlo\n8/22 – Young-Chhaylee\n8/29 – Linzy Collins\n9/5 – Kellie Rose \n(Please note\, we will not be hosting music in Friday\, July 4th) \n 
URL:https://tsillancellars.com/event/woodinville-music-in-the-alley-7/
LOCATION:Tsillan Cellars Woodinville\, 13550 NE Village Square Drive\, Unit 1070\, Woodinville\, 98072\, United States
END:VEVENT
BEGIN:VEVENT
DTSTART;TZID=UTC:20250623T160000
DTEND;TZID=UTC:20250623T180000
DTSTAMP:20260421T213308
CREATED:20250507T191153Z
LAST-MODIFIED:20250507T191153Z
UID:44667-1750694400-1750701600@tsillancellars.com
SUMMARY:Music Under the Vines: Whiskey Trail
DESCRIPTION:Join us for Music Under the Vines every Monday from 4–6 PM! Relax beneath our grapevine-covered trellis as you enjoy live music\, delightful small bites\, and your favorite Tsillan Cellars wines.
URL:https://tsillancellars.com/event/music-under-the-vines-whiskey-trail/
LOCATION:Tsillan Cellars
CATEGORIES:Chelan
ATTACH;FMTTYPE=image/jpeg:https://tsillancellars.com/wp-content/uploads/2025/05/62A9540-Edit-scaled.jpg
END:VEVENT
BEGIN:VEVENT
DTSTART;TZID=UTC:20250626T183000
DTEND;TZID=UTC:20250626T203000
DTSTAMP:20260421T213308
CREATED:20250618T205259Z
LAST-MODIFIED:20250618T212922Z
UID:44852-1750962600-1750969800@tsillancellars.com
SUMMARY:WOODINVILLE: Music Bingo
DESCRIPTION:  \nMUSIC BINGO aka “MINGO”\nThursdays from 6:30-8:30pm starting June 19th. ~ Wine available by the glass and bottle \nThursday evenings beginning 6/19 are going to get a lot more fun! Prepare yourself for Musical Bingo fun with Mingo Maniac! “Mingo” combines the classic game of bingo with your favorite tunes for a night of friendly competition and unforgettable fun. It thrives on the social experience\, so round up your friends\, get ready to jam and win big! \nClick here for more information on how to play Mingo Maniac! (https://www.mingomaniac.com/) \nReservations are recommended for this event\, please call the tasting room: (425) 482-5976
URL:https://tsillancellars.com/event/woodinville-music-bingo-2/
LOCATION:Tsillan Cellars Woodinville\, 13550 NE Village Square Drive\, Unit 1070\, Woodinville\, 98072\, United States
END:VEVENT
BEGIN:VEVENT
DTSTART;TZID=UTC:20250627T170000
DTEND;TZID=UTC:20250627T200000
DTSTAMP:20260421T213308
CREATED:20250530T011154Z
LAST-MODIFIED:20250530T011206Z
UID:44804-1751043600-1751054400@tsillancellars.com
SUMMARY:WOODINVILLE: Music in the Alley
DESCRIPTION:Music in the Alley returns starting June 20th! Visit Wine Alley on Fridays from 5-8pm for live music outside. Each of the six participating Wine Alley wineries will have their patios open for guests to enjoy amazing Washington wines\, the warm Summer nights and great performances by some of our favorite local artists! \nWine Club members can call the tasting room to reserve patio seating during these evenings and our kitchen will be open until 7pm! \nCheck out the schedule to see who will be playing the Alley this year: \n6/20 – Kellie Rose\n6/27 – Gina Belliveau\n7/11 – James Coates\n7/18 – Ian Skavdahl\n7/25 – Whisky Trail\n8/1 – Kurt Lindsay w/ Gina Belliveau\n8/8 – Jaeden Luke\n8/15 – Kristen Marlo\n8/22 – Young-Chhaylee\n8/29 – Linzy Collins\n9/5 – Kellie Rose \n(Please note\, we will not be hosting music in Friday\, July 4th)
URL:https://tsillancellars.com/event/44804/
LOCATION:Tsillan Cellars Woodinville\, 13550 NE Village Square Drive\, Unit 1070\, Woodinville\, 98072\, United States
END:VEVENT
BEGIN:VEVENT
DTSTART;TZID=UTC:20250630T160000
DTEND;TZID=UTC:20250630T180000
DTSTAMP:20260421T213308
CREATED:20250507T191259Z
LAST-MODIFIED:20250507T191259Z
UID:44669-1751299200-1751306400@tsillancellars.com
SUMMARY:Music Under the Vines: Chris Ward
DESCRIPTION:Join us for Music Under the Vines every Monday from 4–6 PM! Relax beneath our grapevine-covered trellis as you enjoy live music\, delightful small bites\, and your favorite Tsillan Cellars wines.
URL:https://tsillancellars.com/event/music-under-the-vines-chris-ward/
LOCATION:Tsillan Cellars
CATEGORIES:Chelan
ATTACH;FMTTYPE=image/jpeg:https://tsillancellars.com/wp-content/uploads/2025/05/62A9540-Edit-scaled.jpg
END:VEVENT
END:VCALENDAR