BEGIN:VCALENDAR
VERSION:2.0
PRODID:-//Tsillan Cellars - ECPv6.15.20//NONSGML v1.0//EN
CALSCALE:GREGORIAN
METHOD:PUBLISH
X-ORIGINAL-URL:https://tsillancellars.com
X-WR-CALDESC:Events for Tsillan Cellars
REFRESH-INTERVAL;VALUE=DURATION:PT1H
X-Robots-Tag:noindex
X-PUBLISHED-TTL:PT1H
BEGIN:VTIMEZONE
TZID:UTC
BEGIN:STANDARD
TZOFFSETFROM:+0000
TZOFFSETTO:+0000
TZNAME:UTC
DTSTART:20240101T000000
END:STANDARD
END:VTIMEZONE
BEGIN:VEVENT
DTSTART;TZID=UTC:20251002T183000
DTEND;TZID=UTC:20251002T203000
DTSTAMP:20260421T143324
CREATED:20250924T215241Z
LAST-MODIFIED:20250924T215934Z
UID:45043-1759429800-1759437000@tsillancellars.com
SUMMARY:WOODINVILLE: Music Bingo
DESCRIPTION:MUSIC BINGO aka “MINGO”\nThursdays from 6:30-8:30pm ~ Wine available by the glass and bottle \nPrepare yourself for Musical Bingo fun with Mingo Maniac! “Mingo” combines the classic game of bingo with your favorite tunes for a night of friendly competition and unforgettable fun. It thrives on the social experience\, so round up your friends\, get ready to jam and win big! \nCheck out our planned categories and their dates*: \n10/2 (Kitchen Unavailable) – Reggae Rollout & Diva Devotion\n10/9 (Kitchen Unavailable) – Country Hits & Pre-Game Pump Up (Kitchen Unavailable)\n10/16 – The Name Game & Numbers\n10/23 – Mingo Goes to Canada & British Invasion\n10/30 – Party Starters x2! \nReservations are highly recommended for these events\, and our patio will no longer be available so seating has been reduced— please call the tasting room to save your table today: (425) 482-5976 \nFor dates when the kitchen is unavailable (10/2 & 10/9)\, guests are welcome to bring in their own food and snacks\, we will not be able to offer dishes and cutlery so please plan ahead! \n*Please note that categories may be subject to change. \nClick here for more information on how to play Mingo! \n  \n\n 
URL:https://tsillancellars.com/event/woodinville-music-bingo-13/
LOCATION:Tsillan Cellars Woodinville\, 13550 NE Village Square Drive\, Unit 1070\, Woodinville\, 98072\, United States
END:VEVENT
BEGIN:VEVENT
DTSTART;TZID=UTC:20251003T170000
DTEND;TZID=UTC:20251003T190000
DTSTAMP:20260421T143324
CREATED:20250924T211530Z
LAST-MODIFIED:20250924T211530Z
UID:45041-1759510800-1759518000@tsillancellars.com
SUMMARY:WOODINVILLE: Live Music - Gina Belliveau
DESCRIPTION:  \nGina Belliveau will be playing at the tasting room from 5-7pm on Friday\, October 3rd! Wine Club Members are able to call ahead and make reservations for the evening! Come enjoy a Friday night out with good music and great wine! \n  \nPlease Note that we will not be able to offer our regular food menu during this time\, light snacks will be available for purchase.
URL:https://tsillancellars.com/event/woodinville-live-music-gina-belliveau-4/
END:VEVENT
BEGIN:VEVENT
DTSTART;VALUE=DATE:20251004
DTEND;VALUE=DATE:20251005
DTSTAMP:20260421T143324
CREATED:20250916T172642Z
LAST-MODIFIED:20250916T172642Z
UID:45012-1759536000-1759622399@tsillancellars.com
SUMMARY:Harvest Wagon Tours
DESCRIPTION:Upcoming Tour Dates \nSaturday\, Oct. 4th at 12:30 & 2:30 \nSaturday\, Oct. 11th at 12:30 & 2:30 \nJoin Dr. Bob and Vineyard Manager and Assistant Winemaker Nic Stevens for an engaging and educational wagon tour through our estate vineyards! Immerse yourself in the harvest season and experience the crucial first steps that contribute to the creation of Tsillan Cellars wines. After the vineyard tour\, Head Winemaker Garrett Grubbs will guide you through the production facility\, offering an insider’s look at the action on the crush pad during harvest. \nYour ticket includes a one-hour tour\, a glass of wine\, and an unforgettable educational experience. \nTickets: \nWine Club Member: $15/person \nGuests: $25/person \nTo purchase tickets\, please call 509-682-9463 and ask for the tasting room.
URL:https://tsillancellars.com/event/harvest-wagon-tours-7/
LOCATION:Tsillan Cellars
CATEGORIES:Chelan
ATTACH;FMTTYPE=image/png:https://tsillancellars.com/wp-content/uploads/2025/09/Copy-of-harvest.png
END:VEVENT
BEGIN:VEVENT
DTSTART;TZID=UTC:20251004T120000
DTEND;TZID=UTC:20251004T160000
DTSTAMP:20260421T143324
CREATED:20250827T172251Z
LAST-MODIFIED:20250917T185430Z
UID:44920-1759579200-1759593600@tsillancellars.com
SUMMARY:Fall Market
DESCRIPTION:Join us at our Fall Market on Saturday\, October 4th! Enjoy wine tasting while you browse goods from local artisans and vendors from 12-4pm. It’s the perfect opportunity to start your holiday shopping early\, whether you’re looking for gifts for others or treating yourself. \nNoey Fresh \nFinding Art Glass Art \nCindy Knight Jewelry \nAJ Laser Design \nArbonne \nA lil Knotty \nChelan Valley Botanicals \nChelan Links Permanent Jewelry \nChelan Butte Dahliary \nKelly Melin Art \nVanessa Riggs Art
URL:https://tsillancellars.com/event/fall-market-2/
LOCATION:Tsillan Cellars
CATEGORIES:Chelan
ATTACH;FMTTYPE=image/png:https://tsillancellars.com/wp-content/uploads/2025/08/fall-market.png
END:VEVENT
BEGIN:VEVENT
DTSTART;TZID=UTC:20251004T130000
DTEND;TZID=UTC:20251004T160000
DTSTAMP:20260421T143324
CREATED:20250827T173016Z
LAST-MODIFIED:20250924T160651Z
UID:44928-1759582800-1759593600@tsillancellars.com
SUMMARY:Live Music: Kimo Muraki
DESCRIPTION:
URL:https://tsillancellars.com/event/live-music-scott-heuston-5/
LOCATION:Tsillan Cellars
CATEGORIES:Chelan
END:VEVENT
BEGIN:VEVENT
DTSTART;TZID=UTC:20251009T183000
DTEND;TZID=UTC:20251009T203000
DTSTAMP:20260421T143324
CREATED:20250924T215334Z
LAST-MODIFIED:20250924T220000Z
UID:45045-1760034600-1760041800@tsillancellars.com
SUMMARY:WOODINVILLE: Music Bingo
DESCRIPTION:MUSIC BINGO aka “MINGO”\nThursdays from 6:30-8:30pm ~ Wine available by the glass and bottle \nPrepare yourself for Musical Bingo fun with Mingo Maniac! “Mingo” combines the classic game of bingo with your favorite tunes for a night of friendly competition and unforgettable fun. It thrives on the social experience\, so round up your friends\, get ready to jam and win big! \nCheck out our planned categories and their dates*: \n10/2 (Kitchen Unavailable) – Reggae Rollout & Diva Devotion\n10/9 (Kitchen Unavailable) – Country Hits & Pre-Game Pump Up (Kitchen Unavailable)\n10/16 – The Name Game & Numbers\n10/23 – Mingo Goes to Canada & British Invasion\n10/30 – Party Starters x2! \nReservations are highly recommended for these events\, and our patio will no longer be available so seating has been reduced— please call the tasting room to save your table today: (425) 482-5976 \nFor dates when the kitchen is unavailable (10/2 & 10/9)\, guests are welcome to bring in their own food and snacks\, we will not be able to offer dishes and cutlery so please plan ahead! \n*Please note that categories may be subject to change. \nClick here for more information on how to play Mingo! \n  \n\n 
URL:https://tsillancellars.com/event/woodinville-music-bingo-14/
LOCATION:Tsillan Cellars Woodinville\, 13550 NE Village Square Drive\, Unit 1070\, Woodinville\, 98072\, United States
END:VEVENT
BEGIN:VEVENT
DTSTART;VALUE=DATE:20251011
DTEND;VALUE=DATE:20251012
DTSTAMP:20260421T143324
CREATED:20250916T172750Z
LAST-MODIFIED:20250916T172750Z
UID:45014-1760140800-1760227199@tsillancellars.com
SUMMARY:Harvest Wagon Tours
DESCRIPTION:Upcoming Tour Dates \nSaturday\, Oct. 11th at 12:30 & 2:30 \nJoin Dr. Bob and Vineyard Manager and Assistant Winemaker Nic Stevens for an engaging and educational wagon tour through our estate vineyards! Immerse yourself in the harvest season and experience the crucial first steps that contribute to the creation of Tsillan Cellars wines. After the vineyard tour\, Head Winemaker Garrett Grubbs will guide you through the production facility\, offering an insider’s look at the action on the crush pad during harvest. \nYour ticket includes a one-hour tour\, a glass of wine\, and an unforgettable educational experience. \nTickets: \nWine Club Member: $15/person \nGuests: $25/person \nTo purchase tickets\, please call 509-682-9463 and ask for the tasting room.
URL:https://tsillancellars.com/event/harvest-wagon-tours-8/
LOCATION:Tsillan Cellars
CATEGORIES:Chelan
ATTACH;FMTTYPE=image/png:https://tsillancellars.com/wp-content/uploads/2025/09/Copy-of-harvest.png
END:VEVENT
BEGIN:VEVENT
DTSTART;TZID=UTC:20251011T130000
DTEND;TZID=UTC:20251011T160000
DTSTAMP:20260421T143324
CREATED:20250827T173056Z
LAST-MODIFIED:20250910T202500Z
UID:44930-1760187600-1760198400@tsillancellars.com
SUMMARY:Live Music: Kevin Jones Band
DESCRIPTION:
URL:https://tsillancellars.com/event/live-music-kevin-jones-band-2/
LOCATION:Tsillan Cellars
CATEGORIES:Chelan
ATTACH;FMTTYPE=image/png:https://tsillancellars.com/wp-content/uploads/2025/08/Kevin-Jones-Band-1.png
END:VEVENT
BEGIN:VEVENT
DTSTART;TZID=UTC:20251011T190000
DTEND;TZID=UTC:20251011T210000
DTSTAMP:20260421T143324
CREATED:20250827T172846Z
LAST-MODIFIED:20250908T172405Z
UID:44926-1760209200-1760216400@tsillancellars.com
SUMMARY:Movie in the Vines
DESCRIPTION:Sit amongst the vines and enjoy a movie with popcorn\, wine and friends! Seating will be provided first come first serve. You may also bring your own low lawn chair or blanket. Popcorn is free! \nMovie: Dirty Dancing
URL:https://tsillancellars.com/event/movie-in-the-vines-5/
LOCATION:Tsillan Cellars
CATEGORIES:Chelan
ATTACH;FMTTYPE=image/png:https://tsillancellars.com/wp-content/uploads/2025/08/Movie-in-the-Vines.png
END:VEVENT
BEGIN:VEVENT
DTSTART;TZID=UTC:20251016T180000
DTEND;TZID=UTC:20251016T210000
DTSTAMP:20260421T143324
CREATED:20250808T022501Z
LAST-MODIFIED:20250911T161154Z
UID:44908-1760637600-1760648400@tsillancellars.com
SUMMARY:Founder's Dinner
DESCRIPTION:Join Dr. Bob for an Exclusive Wine and Dining Experience! \n\n\n\n\n\n\n\n\nWe invite you to join us for a truly extraordinary evening — The Founder’s Dinner — an intimate\, six-course\, wine-paired celebration dedicated to the vision and legacy of Dr. Bob Jankelson\, Founder of Tsillan Cellars and pioneer of the Lake Chelan Wine Valley. \nThis special version of our traditional Fall Winemaker’s Dinner will feature an exclusive selection of Reserve wines never offered before\, highlighted by the Founder’s Reserve\, a wine crafted in “secret” to honor Dr. Bob. Sourced from his cherished South Shore Golden Mile estate vineyards\, planted 25 years ago\, these limited-production wines captures the passion\, creativity\, and hard work that has shaped Tsillan Cellars since its very beginning. \nJoin us for this exclusive wine club evening featuring exceptional wines\, a chef-curated menu\, and the rare opportunity to experience our Founder’s Reserve. An unforgettable night awaits. \n\n\n\n\n\n\n\n\n\n\n\n\n\n\n\n\nWhen: Thursday\, October 16th at 6PM \nWhere: Sorrento’s Ristorante at Tsillan Cellars \nPricing: \nVIP Member: $180 \nTuscan Member: $190 \nGuest of Member: $210 \nLimit of 2 guests per wine club membership \n*Gratuity included in price \n\n\n\n\n\n\n\n\n\n\n\nTickets\n\n\n\n\n\n\n\n\n\n\n\nMENU \nAmuse Bouche \nPan-seared sea scallop with pomegranate molasses\, rice wine vinaigrette\, and micro herbs. \nPaired with 2024 Dolce Donna \nFirst Course \nBraised lamb shank stew with micro herbs\, smoked sea salt\, and roasted chive oil. \nPaired with 2022 Estate Founder’s Reserve \nSecond Course \nBellissima-brined cold smoked salmon on a bed of arugula tossed with charred tomato vinaigrette\, feta\, pickled red onion\, and shaved cucumber. \nPaired with 2022 Reserve Bellissima Rossa \nThird Course \nBraised short rib with roasted carrot and pearl onion\, finished with a red wine balsamic glaze. \nPaired with 2022 Reserve Sinistra \nFourth Course \nPrime Tenderloin Wellington with local mushrooms and bordelaise sauce. \nPaired with 2022 Estate Reserve Syrah \nFifth Course \nDark chocolate soufflé with a fig jam center\, drizzled with dark cherry ganache\, and topped with nutmeg-infused whipped cream. \nPaired with 2022 Petit Verdot
URL:https://tsillancellars.com/event/founders-dinner/
LOCATION:Tsillan Cellars & Sorrentos Ristorante
CATEGORIES:Chelan
ATTACH;FMTTYPE=image/png:https://tsillancellars.com/wp-content/uploads/2025/08/Founders-Dinner.png
END:VEVENT
BEGIN:VEVENT
DTSTART;TZID=UTC:20251016T183000
DTEND;TZID=UTC:20251016T203000
DTSTAMP:20260421T143324
CREATED:20250924T215412Z
LAST-MODIFIED:20250924T220142Z
UID:45047-1760639400-1760646600@tsillancellars.com
SUMMARY:WOODINVILLE: Music Bingo
DESCRIPTION:MUSIC BINGO aka “MINGO”\nThursdays from 6:30-8:30pm ~ Wine available by the glass and bottle \nPrepare yourself for Musical Bingo fun with Mingo Maniac! “Mingo” combines the classic game of bingo with your favorite tunes for a night of friendly competition and unforgettable fun. It thrives on the social experience\, so round up your friends\, get ready to jam and win big! \nCheck out our planned categories and their dates*: \n10/2 (Kitchen Unavailable) – Reggae Rollout & Diva Devotion\n10/9 (Kitchen Unavailable) – Country Hits & Pre-Game Pump Up (Kitchen Unavailable)\n10/16 – The Name Game & Numbers\n10/23 – Mingo Goes to Canada & British Invasion\n10/30 – Party Starters x2! \nReservations are highly recommended for these events\, and our patio will no longer be available so seating has been reduced— please call the tasting room to save your table today: (425) 482-5976 \nFor dates when the kitchen is unavailable (10/2 & 10/9)\, guests are welcome to bring in their own food and snacks\, we will not be able to offer dishes and cutlery so please plan ahead! \n*Please note that categories may be subject to change. \nClick here for more information on how to play Mingo! \n  \n\n 
URL:https://tsillancellars.com/event/woodinville-music-bingo-15/
LOCATION:Tsillan Cellars Woodinville\, 13550 NE Village Square Drive\, Unit 1070\, Woodinville\, 98072\, United States
END:VEVENT
BEGIN:VEVENT
DTSTART;TZID=UTC:20251018T130000
DTEND;TZID=UTC:20251018T160000
DTSTAMP:20260421T143324
CREATED:20250827T173147Z
LAST-MODIFIED:20250910T201225Z
UID:44932-1760792400-1760803200@tsillancellars.com
SUMMARY:Live Music: Whisky Trail Band
DESCRIPTION:
URL:https://tsillancellars.com/event/live-music-whiskey-trail-band/
LOCATION:Tsillan Cellars
CATEGORIES:Chelan
ATTACH;FMTTYPE=image/jpeg:https://tsillancellars.com/wp-content/uploads/2025/08/Whisky-Trail.jpg
END:VEVENT
BEGIN:VEVENT
DTSTART;TZID=UTC:20251023T170000
DTEND;TZID=UTC:20251023T200000
DTSTAMP:20260421T143324
CREATED:20251022T183432Z
LAST-MODIFIED:20251022T183450Z
UID:45073-1761238800-1761249600@tsillancellars.com
SUMMARY:Prime Rib Night @ Sorrento's
DESCRIPTION:Thursday nights just got better 🍷\n\nPrime Rib Thursdays are back at Sorrento’s Ristorante — perfectly prepared by Chef Jon and served with Au Jus\, creamy horseradish\, seasonal vegetables\, and your choice of potatoes or a side salad.\n\nEnjoy 10 oz or 14 oz cuts.\n\n🍴 Make reservations on OpenTable or call 509-682-5409.
URL:https://tsillancellars.com/event/prime-rib-night-sorrentos/
CATEGORIES:Chelan
ATTACH;FMTTYPE=image/png:https://tsillancellars.com/wp-content/uploads/2025/10/Untitled-1920-x-1080-px.png
END:VEVENT
BEGIN:VEVENT
DTSTART;TZID=UTC:20251023T173000
DTEND;TZID=UTC:20251023T203000
DTSTAMP:20260421T143324
CREATED:20250924T215525Z
LAST-MODIFIED:20250924T220304Z
UID:45049-1761240600-1761251400@tsillancellars.com
SUMMARY:WOODINVILLE: Music Bingo
DESCRIPTION:MUSIC BINGO aka “MINGO”\nThursdays from 6:30-8:30pm ~ Wine available by the glass and bottle \nPrepare yourself for Musical Bingo fun with Mingo Maniac! “Mingo” combines the classic game of bingo with your favorite tunes for a night of friendly competition and unforgettable fun. It thrives on the social experience\, so round up your friends\, get ready to jam and win big! \nCheck out our planned categories and their dates*: \n10/2 (Kitchen Unavailable) – Reggae Rollout & Diva Devotion\n10/9 (Kitchen Unavailable) – Country Hits & Pre-Game Pump Up (Kitchen Unavailable)\n10/16 – The Name Game & Numbers\n10/23 – Mingo Goes to Canada & British Invasion\n10/30 – Party Starters x2! \nReservations are highly recommended for these events\, and our patio will no longer be available so seating has been reduced— please call the tasting room to save your table today: (425) 482-5976 \nFor dates when the kitchen is unavailable (10/2 & 10/9)\, guests are welcome to bring in their own food and snacks\, we will not be able to offer dishes and cutlery so please plan ahead! \n*Please note that categories may be subject to change. \nClick here for more information on how to play Mingo! \n  \n\n 
URL:https://tsillancellars.com/event/woodinville-music-bingo-16/
LOCATION:Tsillan Cellars Woodinville\, 13550 NE Village Square Drive\, Unit 1070\, Woodinville\, 98072\, United States
END:VEVENT
BEGIN:VEVENT
DTSTART;TZID=UTC:20251025T130000
DTEND;TZID=UTC:20251025T160000
DTSTAMP:20260421T143324
CREATED:20250827T173225Z
LAST-MODIFIED:20250910T201755Z
UID:44934-1761397200-1761408000@tsillancellars.com
SUMMARY:Live Music: Jon White
DESCRIPTION:
URL:https://tsillancellars.com/event/live-music-jon-white/
LOCATION:Tsillan Cellars
CATEGORIES:Chelan
ATTACH;FMTTYPE=image/jpeg:https://tsillancellars.com/wp-content/uploads/2025/08/Jon-White.jpg
END:VEVENT
BEGIN:VEVENT
DTSTART;TZID=UTC:20251029T170000
DTEND;TZID=UTC:20251029T190000
DTSTAMP:20260421T143324
CREATED:20250910T230840Z
LAST-MODIFIED:20250910T230840Z
UID:44995-1761757200-1761764400@tsillancellars.com
SUMMARY:WOODINVILLE: "Pumpkin Palooza" Cookie Decorating Class
DESCRIPTION:Get into the Halloween spirit at Tsillan Cellars with our Pumpkin Palooza Cookie Decorating Class! Join us on Wednesday\, October 29\, 2025\, from 5–7 PM for a festive\, hands-on evening where you’ll decorate six spooky-sweet sugar cookies—pumpkins\, candy corn\, and ghostly friends—while enjoying your favorite Tsillan wines. 🍷✨ \nNo experience needed—our cookie guide will walk you through each step. You’ll leave with a box of custom cookies that are too cute to spook (and almost too good to eat)! 👻🍬 \n🎟️ Tickets are $55 per person and include all supplies\, instruction\, and a take-home box. Sales close October 15th\, so don’t wait to reserve your spot. \nTickets Available Here!
URL:https://tsillancellars.com/event/woodinville-pumpkin-palooza-cookie-decorating-class/
LOCATION:Tsillan Cellars Woodinville\, 13550 NE Village Square Drive\, Unit 1070\, Woodinville\, 98072\, United States
END:VEVENT
BEGIN:VEVENT
DTSTART;TZID=UTC:20251030T170000
DTEND;TZID=UTC:20251030T200000
DTSTAMP:20260421T143324
CREATED:20251022T183600Z
LAST-MODIFIED:20251022T183600Z
UID:45076-1761843600-1761854400@tsillancellars.com
SUMMARY:Prime Rib Night @ Sorrento's
DESCRIPTION:Thursday nights just got better 🍷\n\nPrime Rib Thursdays are back at Sorrento’s Ristorante — perfectly prepared by Chef Jon and served with Au Jus\, creamy horseradish\, seasonal vegetables\, and your choice of potatoes or a side salad.\n\nEnjoy 10 oz or 14 oz cuts.\n\n🍴 Make reservations on OpenTable or call 509-682-5409.
URL:https://tsillancellars.com/event/prime-rib-night-sorrentos-2/
ATTACH;FMTTYPE=image/png:https://tsillancellars.com/wp-content/uploads/2025/10/Untitled-1920-x-1080-px.png
END:VEVENT
BEGIN:VEVENT
DTSTART;TZID=UTC:20251030T183000
DTEND;TZID=UTC:20251030T203000
DTSTAMP:20260421T143324
CREATED:20250924T215609Z
LAST-MODIFIED:20250924T215609Z
UID:45051-1761849000-1761856200@tsillancellars.com
SUMMARY:WOODINVILLE: Music Bingo
DESCRIPTION:MUSIC BINGO aka “MINGO”\nThursdays from 6:30-8:30pm ~ Wine available by the glass and bottle \nPrepare yourself for Musical Bingo fun with Mingo Maniac! “Mingo” combines the classic game of bingo with your favorite tunes for a night of friendly competition and unforgettable fun. It thrives on the social experience\, so round up your friends\, get ready to jam and win big! \nCheck out our planned categories and their dates*: \n10/2 (Kitchen Unavailable) – Reggae Rollout & Diva Devotion\n10/9 (Kitchen Unavailable) – Country Hits & Pre-Game Pump Up (Kitchen Unavailable)\n10/16 – The Name Game & Numbers\n10/23 – Mingo Goes to Canada & British Invasion\n10/30 – Party Starters x2! \nReservations are highly recommended for these events\, and our patio will no longer be available so seating has been reduced— please call the tasting room to save your table today: (425) 482-5976 \nFor dates when the kitchen is unavailable (10/2 & 10/9)\, guests are welcome to bring in their own food and snacks\, we will not be able to offer dishes and cutlery so please plan ahead! \n*Please note that categories may be subject to change. \nClick here for more information on how to play Mingo! \n  \n\n 
URL:https://tsillancellars.com/event/woodinville-music-bingo-17/
LOCATION:Tsillan Cellars Woodinville\, 13550 NE Village Square Drive\, Unit 1070\, Woodinville\, 98072\, United States
END:VEVENT
END:VCALENDAR