BEGIN:VCALENDAR
VERSION:2.0
PRODID:-//Tsillan Cellars - ECPv6.15.20//NONSGML v1.0//EN
CALSCALE:GREGORIAN
METHOD:PUBLISH
X-ORIGINAL-URL:https://tsillancellars.com
X-WR-CALDESC:Events for Tsillan Cellars
REFRESH-INTERVAL;VALUE=DURATION:PT1H
X-Robots-Tag:noindex
X-PUBLISHED-TTL:PT1H
BEGIN:VTIMEZONE
TZID:UTC
BEGIN:STANDARD
TZOFFSETFROM:+0000
TZOFFSETTO:+0000
TZNAME:UTC
DTSTART:20240101T000000
END:STANDARD
END:VTIMEZONE
BEGIN:VEVENT
DTSTART;TZID=UTC:20251101T120000
DTEND;TZID=UTC:20251101T150000
DTSTAMP:20260421T125406
CREATED:20250827T173317Z
LAST-MODIFIED:20251022T183936Z
UID:44936-1761998400-1762009200@tsillancellars.com
SUMMARY:Live Music: Older & Wiser
DESCRIPTION:
URL:https://tsillancellars.com/event/live-music-older-wiser-6/
LOCATION:Tsillan Cellars Tasting Room
CATEGORIES:Chelan
ATTACH;FMTTYPE=image/jpeg:https://tsillancellars.com/wp-content/uploads/2025/08/Older-Wiser.jpg
END:VEVENT
BEGIN:VEVENT
DTSTART;TZID=UTC:20251101T160000
DTEND;TZID=UTC:20251101T180000
DTSTAMP:20260421T125406
CREATED:20250924T155451Z
LAST-MODIFIED:20250924T163647Z
UID:45027-1762012800-1762020000@tsillancellars.com
SUMMARY:2023 Red Vintage Tasting - CHELAN
DESCRIPTION:Tasting the 2023 Red Vintage \nAn Exclusive Wine Club Event \nChelan – Saturday\, Nov. 1st 4-6pm \nWe are excited to announce our Third Red Vintage Preview Event! Head Winemaker Garrett Grubbs and Vineyard Manager/Assistant Winemaker Nic Stevens can’t wait to share this incredible vintage with you. They will guide you through a unique wine tasting experience where you will taste through the entire vintage of our 2023 red wines. This is an exciting opportunity for you to be the very first to taste and purchase these wines! \nThe Event: \nExperience an exclusive tasting of ALL the 2023 red wines. Visit with Dr. Bob\, Head Winemaker Garrett Grubbs and Assistant Winemaker/Vineyard Manager Nic Stevens. Taste through and learn about this impressive lineup of red wines. As a Wine Club Member\, this is your chance to taste and purchase these wines before they are officially released next year. \nLimited to 50 people. \nWhen and Where: \nTsillan Cellars in Chelan \nProduction Room: Saturday\, Nov. 1st at 4-6pm \nPrice: $75 Wine Club Members; $100 Guests \nTicket Includes: Charcuterie Pairing Boards. \nWines to be presented by Head Winemaker Garrett Grubbs
URL:https://tsillancellars.com/event/2023-vintage-tasting-chelan/
LOCATION:Tsillan Cellars
CATEGORIES:Chelan
END:VEVENT
BEGIN:VEVENT
DTSTART;TZID=UTC:20251106T170000
DTEND;TZID=UTC:20251106T200000
DTSTAMP:20260421T125406
CREATED:20251022T183653Z
LAST-MODIFIED:20251022T183653Z
UID:45078-1762448400-1762459200@tsillancellars.com
SUMMARY:Prime Rib Night @ Sorrento's
DESCRIPTION:Thursday nights just got better 🍷\n\nPrime Rib Thursdays are back at Sorrento’s Ristorante — perfectly prepared by Chef Jon and served with Au Jus\, creamy horseradish\, seasonal vegetables\, and your choice of potatoes or a side salad.\n\nEnjoy 10 oz or 14 oz cuts.\n\n🍴 Make reservations on OpenTable or call 509-682-5409.
URL:https://tsillancellars.com/event/prime-rib-night-sorrentos-3/
ATTACH;FMTTYPE=image/png:https://tsillancellars.com/wp-content/uploads/2025/10/Untitled-1920-x-1080-px.png
END:VEVENT
BEGIN:VEVENT
DTSTART;TZID=UTC:20251106T183000
DTEND;TZID=UTC:20251106T203000
DTSTAMP:20260421T125406
CREATED:20251031T211137Z
LAST-MODIFIED:20251031T211137Z
UID:45110-1762453800-1762461000@tsillancellars.com
SUMMARY:WOODINVILLE: Music Bingo
DESCRIPTION:We are keeping the Music Bingo party going for the month of November! We only have a few more Thursdays left to party Mingo-style! Don’t forget to make your reservations to save your seat! \nCheck out November’s dates and categories to plan your next Thursday with us! \n11/6 – Tournament of Champions\n11/13 – 70’s Hits\n11/20 – 80’s Hits \nReservations can be made by calling the tasting room: (425) 482-5976 \nPurchase to play. Changes and cancellations to reservations must be made with 24 hours notice or parties will be subject to a no-show fee of $10 per guest. \n 
URL:https://tsillancellars.com/event/woodinville-music-bingo-18/
END:VEVENT
BEGIN:VEVENT
DTSTART;VALUE=DATE:20251108
DTEND;VALUE=DATE:20251110
DTSTAMP:20260421T125406
CREATED:20251104T222706Z
LAST-MODIFIED:20251104T222913Z
UID:45127-1762560000-1762732799@tsillancellars.com
SUMMARY:Restaurant Week at Sorrento's!
DESCRIPTION:The holiday season is here\, and our schedules are filling up fast! Take a break from cooking and enjoy a meal at one of your favorite local spots during Chelan’s Restaurant Week\, November 8-15th. \nParticipating restaurants are offering $35 prix fixe dinner menus\, each with a unique lineup of dishes — the perfect way to kick off Small Town Holidays and support local businesses. Click below to explore all participating restaurants\, including Sorrento’s! \nSorrento’s Ristorante Restaurant Week Offer \nAppetizer Options:\nLeafy Green Salad\nCaesar Salad \nEntrée:\nFire Pasta – Creamy fiery Alfredo sauce tossed with linguine\, topped with grilled chicken\, finished with fresh Parmigiano Reggiano \nDessert:\nTiramisu
URL:https://tsillancellars.com/event/restaurant-week-at-sorrentos/
ATTACH;FMTTYPE=image/png:https://tsillancellars.com/wp-content/uploads/2025/11/restaurant_week_logo_1_Primary_Black.png
END:VEVENT
BEGIN:VEVENT
DTSTART;VALUE=DATE:20251108
DTEND;VALUE=DATE:20251112
DTSTAMP:20260421T125406
CREATED:20251104T223429Z
LAST-MODIFIED:20251104T223448Z
UID:45133-1762560000-1762905599@tsillancellars.com
SUMMARY:Honoring our Veterans
DESCRIPTION:In honor of Veterans Day\, we are proud to offer all veterans and active duty military 20% OFF their purchases November 8th-11th in the tasting room. \nThis is our way of expressing heartfelt gratitude for your service and sacrifice in serving our country.
URL:https://tsillancellars.com/event/honoring-our-veterans/
ATTACH;FMTTYPE=image/png:https://tsillancellars.com/wp-content/uploads/2025/11/unnamed-1.png
END:VEVENT
BEGIN:VEVENT
DTSTART;TZID=UTC:20251108T130000
DTEND;TZID=UTC:20251108T160000
DTSTAMP:20260421T125406
CREATED:20250827T173354Z
LAST-MODIFIED:20251028T182219Z
UID:44938-1762606800-1762617600@tsillancellars.com
SUMMARY:Live Music: Jon White
DESCRIPTION:Join us for live music in the Tasting Room from 1-4pm with Jon White!
URL:https://tsillancellars.com/event/live-music/
LOCATION:Tsillan Cellars Tasting Room
CATEGORIES:Chelan
ATTACH;FMTTYPE=image/jpeg:https://tsillancellars.com/wp-content/uploads/2025/08/Jon-White.jpg
END:VEVENT
BEGIN:VEVENT
DTSTART;VALUE=DATE:20251113
DTEND;VALUE=DATE:20251116
DTSTAMP:20260421T125406
CREATED:20251104T223051Z
LAST-MODIFIED:20251104T223051Z
UID:45131-1762992000-1763251199@tsillancellars.com
SUMMARY:Restaurant Week at Sorrento's!
DESCRIPTION:The holiday season is here\, and our schedules are filling up fast! Take a break from cooking and enjoy a meal at one of your favorite local spots during Chelan’s Restaurant Week\, November 8-15th. \nParticipating restaurants are offering $35 prix fixe dinner menus\, each with a unique lineup of dishes — the perfect way to kick off Small Town Holidays and support local businesses. Click below to explore all participating restaurants\, including Sorrento’s! \nSorrento’s Ristorante Restaurant Week Offer \nAppetizer Options:\nLeafy Green Salad\nCaesar Salad \nEntrée:\nFire Pasta – Creamy fiery Alfredo sauce tossed with linguine\, topped with grilled chicken\, finished with fresh Parmigiano Reggiano \nDessert:\nTiramisu
URL:https://tsillancellars.com/event/restaurant-week-at-sorrentos-2/
ATTACH;FMTTYPE=image/png:https://tsillancellars.com/wp-content/uploads/2025/11/restaurant_week_logo_1_Primary_Black.png
END:VEVENT
BEGIN:VEVENT
DTSTART;TZID=UTC:20251113T170000
DTEND;TZID=UTC:20251113T200000
DTSTAMP:20260421T125406
CREATED:20251022T183743Z
LAST-MODIFIED:20251022T183743Z
UID:45080-1763053200-1763064000@tsillancellars.com
SUMMARY:Prime Rib Night @ Sorrento's
DESCRIPTION:Thursday nights just got better 🍷\n\nPrime Rib Thursdays are back at Sorrento’s Ristorante — perfectly prepared by Chef Jon and served with Au Jus\, creamy horseradish\, seasonal vegetables\, and your choice of potatoes or a side salad.\n\nEnjoy 10 oz or 14 oz cuts.\n\n🍴 Make reservations on OpenTable or call 509-682-5409.
URL:https://tsillancellars.com/event/prime-rib-night-sorrentos-4/
ATTACH;FMTTYPE=image/png:https://tsillancellars.com/wp-content/uploads/2025/10/Untitled-1920-x-1080-px.png
END:VEVENT
BEGIN:VEVENT
DTSTART;TZID=UTC:20251113T183000
DTEND;TZID=UTC:20251113T203000
DTSTAMP:20260421T125406
CREATED:20251031T211228Z
LAST-MODIFIED:20251031T211228Z
UID:45113-1763058600-1763065800@tsillancellars.com
SUMMARY:WOODINVILLE: Music Bingo
DESCRIPTION:We are keeping the Music Bingo party going for the month of November! We only have a few more Thursdays left to party Mingo-style! Don’t forget to make your reservations to save your seat! \nCheck out November’s dates and categories to plan your next Thursday with us! \n11/6 – Tournament of Champions\n11/13 – 70’s Hits\n11/20 – 80’s Hits \nReservations can be made by calling the tasting room: (425) 482-5976 \nPurchase to play. Changes and cancellations to reservations must be made with 24 hours notice or parties will be subject to a no-show fee of $10 per guest. \n 
URL:https://tsillancellars.com/event/woodinville-music-bingo-19/
LOCATION:Tsillan Cellars Woodinville\, 13550 NE Village Square Drive\, Unit 1070\, Woodinville\, 98072\, United States
END:VEVENT
BEGIN:VEVENT
DTSTART;TZID=UTC:20251115T120000
DTEND;TZID=UTC:20251115T160000
DTSTAMP:20260421T125406
CREATED:20251002T174037Z
LAST-MODIFIED:20251002T174037Z
UID:45064-1763208000-1763222400@tsillancellars.com
SUMMARY:Fall Barrel Tasting
DESCRIPTION:Barrel Tasting Experience at Tsillan Cellars \n🍷 Saturday\, November 15th 🍷 \n12:00 | 1:00 | 2:00 | 3:00 \nJoin us for a behind-the-scenes barrel tasting experience with Head Winemaker Garrett Grubbs and Assistant Winemaker Nic Stevens. The tour begins in the Tasting Room with a pour of our 2022 Heart of the Hill Vineyard Petite Sirah\, then continues into Production to sample the 2024 vintage straight from the puncheon. Along the way\, you’ll hear insights from the winemaking team and experience Tsillan Cellars like never before! \n\nFour tours available: 12:00\, 1:00\, 2:00\, 3:00 PM\n20 guests max per tour\n$20 per person (wine club discounts apply)\nReserve your spot by calling 509-682-9463 and asking for the Tasting Room.
URL:https://tsillancellars.com/event/fall-barrel-tasting-5/
LOCATION:Tsillan Cellars
ATTACH;FMTTYPE=image/png:https://tsillancellars.com/wp-content/uploads/2025/10/Fall-Barrel-Tasting-Saturday-November-9th-Saturday-November-16th-12-4pm-1200-x-800-px-1.png
END:VEVENT
BEGIN:VEVENT
DTSTART;TZID=UTC:20251115T130000
DTEND;TZID=UTC:20251115T160000
DTSTAMP:20260421T125406
CREATED:20250827T173443Z
LAST-MODIFIED:20250910T202546Z
UID:44940-1763211600-1763222400@tsillancellars.com
SUMMARY:Live Music: Whisky Trail
DESCRIPTION:
URL:https://tsillancellars.com/event/live-music-whiskey-trail-3/
LOCATION:Tsillan Cellars Tasting Room
CATEGORIES:Chelan
ATTACH;FMTTYPE=image/jpeg:https://tsillancellars.com/wp-content/uploads/2025/08/whisky-trail.jpeg
END:VEVENT
BEGIN:VEVENT
DTSTART;TZID=UTC:20251120T183000
DTEND;TZID=UTC:20251120T203000
DTSTAMP:20260421T125406
CREATED:20251031T211304Z
LAST-MODIFIED:20251119T192048Z
UID:45115-1763663400-1763670600@tsillancellars.com
SUMMARY:WOODINVILLE: Music Bingo
DESCRIPTION:We are keeping the Music Bingo party going for the month of November! We only have a few more Thursdays left to party Mingo-style! Don’t forget to make your reservations to save your seat! \nCheck out November’s dates and categories to plan your next Thursday with us! \n11/6 – Tournament of Champions\n11/13 – 70’s Hits\n11/20 – 80’s Hits \nReservations can be made by calling the tasting room: (425) 482-5976 \nPurchase to play. Changes and cancellations to reservations must be made with 24 hours notice or parties will be subject to a no-show fee of $10 per guest. \n 
URL:https://tsillancellars.com/event/woodinville-music-bingo-20/
LOCATION:Tsillan Cellars Woodinville\, 13550 NE Village Square Drive\, Unit 1070\, Woodinville\, 98072\, United States
CATEGORIES:Woodinville
ATTACH;FMTTYPE=image/png:https://tsillancellars.com/wp-content/uploads/2025/10/2.png
END:VEVENT
BEGIN:VEVENT
DTSTART;VALUE=DATE:20251121
DTEND;VALUE=DATE:20251124
DTSTAMP:20260421T125406
CREATED:20251119T174958Z
LAST-MODIFIED:20251119T191856Z
UID:45164-1763683200-1763942399@tsillancellars.com
SUMMARY:Fireside Fare
DESCRIPTION:Cozy up in the Tasting Room with our Fireside Fare lunch menu — a seasonal lineup crafted to pair perfectly with your favorite Tsillan wines. \n\nDetails:Every Friday–Sunday12:00–2:00 PMTasting Room at Tsillan Cellars
URL:https://tsillancellars.com/event/fireside-fare-3/
CATEGORIES:Chelan
ATTACH;FMTTYPE=image/png:https://tsillancellars.com/wp-content/uploads/2025/11/Chamber-photos.png
END:VEVENT
BEGIN:VEVENT
DTSTART;TZID=UTC:20251122T120000
DTEND;TZID=UTC:20251122T170000
DTSTAMP:20260421T125406
CREATED:20251031T210900Z
LAST-MODIFIED:20251119T194906Z
UID:45105-1763812800-1763830800@tsillancellars.com
SUMMARY:Wine Alley Holiday Sip & Shop
DESCRIPTION:Wine Alley will be hosting a weekend-long Sip & Shop the weekend before Thanksgiving. This is a chance to get your holiday shopping started early while also stocking up on wines for your Thanksgiving festivities! All five Wine Alley tasting rooms will be hosting small businesses for the weekend\, check out who will be inside our tasting room: \nCitrine Design Shop \nQuincy & Coco \nBarrel and Whisk \nZuberenz Salon & Spa Permanent Jewelry \nPlease note: Our tasting room will be closing at 5pm both days and we will not be taking reservations for this weekend as seating will be limited due our vendors.
URL:https://tsillancellars.com/event/woodinville-wine-alley-sip-shop/
LOCATION:Tsillan Cellars Woodinville\, 13550 NE Village Square Drive\, Unit 1070\, Woodinville\, 98072\, United States
CATEGORIES:Woodinville
ATTACH;FMTTYPE=image/png:https://tsillancellars.com/wp-content/uploads/2025/10/TV-Sip-Shop-1920-x-1080-px1-1.png
END:VEVENT
BEGIN:VEVENT
DTSTART;TZID=UTC:20251122T130000
DTEND;TZID=UTC:20251122T160000
DTSTAMP:20260421T125406
CREATED:20250827T173517Z
LAST-MODIFIED:20251104T230052Z
UID:44942-1763816400-1763827200@tsillancellars.com
SUMMARY:Live Music: Jeff McLaren
DESCRIPTION:Join us for live music in the tasting room with Jeff McLaren from 1-4pm!
URL:https://tsillancellars.com/event/live-music-scott-heuston-6/
LOCATION:Tsillan Cellars Tasting Room
CATEGORIES:Chelan
ATTACH;FMTTYPE=image/jpeg:https://tsillancellars.com/wp-content/uploads/2025/08/jeff-M.jpeg
END:VEVENT
BEGIN:VEVENT
DTSTART;TZID=UTC:20251123T120000
DTEND;TZID=UTC:20251123T170000
DTSTAMP:20260421T125406
CREATED:20251031T210941Z
LAST-MODIFIED:20251119T192839Z
UID:45108-1763899200-1763917200@tsillancellars.com
SUMMARY:WOODINVILLE: Wine Alley Holiday Sip & Shop
DESCRIPTION:Wine Alley will be hosting a weekend-long Sip & Shop the weekend before Thanksgiving. This is a chance to get your holiday shopping started early while also stocking up on wines for your Thanksgiving festivities! All five Wine Alley tasting rooms will be hosting small businesses for the weekend\, check out who will be inside our tasting room: \nCitrine Design Shop \nQuincy & Coco \nBarrel and Whisk \nZuberenz Salon & Spa Permanent Jewelry \nPlease note: Our tasting room will be closing at 5pm both days and we will not be taking reservations for this weekend as seating will be limited due our vendors.
URL:https://tsillancellars.com/event/woodinville-wine-alley-sip-shop-2/
LOCATION:Tsillan Cellars Woodinville\, 13550 NE Village Square Drive\, Unit 1070\, Woodinville\, 98072\, United States
CATEGORIES:Woodinville
ATTACH;FMTTYPE=image/png:https://tsillancellars.com/wp-content/uploads/2025/10/TV-Sip-Shop-1920-x-1080-px1-1.png
END:VEVENT
BEGIN:VEVENT
DTSTART;TZID=UTC:20251126T170000
DTEND;TZID=UTC:20251126T200000
DTSTAMP:20260421T125406
CREATED:20251125T194416Z
LAST-MODIFIED:20251125T194432Z
UID:45233-1764176400-1764187200@tsillancellars.com
SUMMARY:Special Prime Rib Night @ Sorrento's!
DESCRIPTION:Join us at Sorrento’s this Wednesday\, November 26th for a warm and comforting pre-Thanksgiving treat. Chef Jon’s Prime Rib Special will be served fireside with Au Jus\, creamy horseradish\, seasonal vegetables\, and your choice of potatoes or a side salad. The perfect way to ease into the holiday weekend.
URL:https://tsillancellars.com/event/special-prime-rib-night-sorrentos/
CATEGORIES:Chelan
ATTACH;FMTTYPE=image/jpeg:https://tsillancellars.com/wp-content/uploads/2025/11/IMG_5791-scaled.jpg
END:VEVENT
BEGIN:VEVENT
DTSTART;TZID=UTC:20251127T130000
DTEND;TZID=UTC:20251127T170000
DTSTAMP:20260421T125406
CREATED:20251030T205650Z
LAST-MODIFIED:20251119T191703Z
UID:45099-1764248400-1764262800@tsillancellars.com
SUMMARY:Thanksgiving at Sorrento's
DESCRIPTION:Thanksgiving Reservations Now Available \nNovember 27th\, 1-5pm \n  \nSorrento’s Ristorante invites you to join us for a spectacular Thanksgiving buffet that the whole family will enjoy. Indulge in all your holiday favorites\, from green bean casserole and stuffing to a mouthwatering cider-brined turkey. Let us handle the cooking so you can focus on creating cherished memories with family and friends. \n  \nMake reservations on OpenTable or please call 509-682-9463. \nFor large groups (groups of 8 or more) please call to make your reservation. \n  \nPrice \n$64/person \nKids (6-11 years old) $30 \n5 & under Free
URL:https://tsillancellars.com/event/thanksgiving-at-sorrentos-3/
CATEGORIES:Chelan
ATTACH;FMTTYPE=image/png:https://tsillancellars.com/wp-content/uploads/2025/10/Thanksgiving-1.png
END:VEVENT
BEGIN:VEVENT
DTSTART;VALUE=DATE:20251128
DTEND;VALUE=DATE:20251201
DTSTAMP:20260421T125406
CREATED:20251119T175133Z
LAST-MODIFIED:20251119T191650Z
UID:45167-1764288000-1764547199@tsillancellars.com
SUMMARY:Fireside Fare
DESCRIPTION:Cozy up in the Tasting Room with our Fireside Fare lunch menu — a seasonal lineup crafted to pair perfectly with your favorite Tsillan wines. \n\nDetails:Every Friday–Sunday12:00–2:00 PMTasting Room at Tsillan Cellars
URL:https://tsillancellars.com/event/fireside-fare-4/
CATEGORIES:Chelan
ATTACH;FMTTYPE=image/png:https://tsillancellars.com/wp-content/uploads/2025/11/Chamber-photos.png
END:VEVENT
BEGIN:VEVENT
DTSTART;VALUE=DATE:20251129
DTEND;VALUE=DATE:20251130
DTSTAMP:20260421T125406
CREATED:20251104T223539Z
LAST-MODIFIED:20251119T191636Z
UID:45137-1764374400-1764460799@tsillancellars.com
SUMMARY:Small Business Saturday
DESCRIPTION:Small Business Saturday is all about celebrating the unique local businesses that make our Lake Chelan community special. By presenting a receipt from one of these businesses\, you’re not only enjoying our wine but also giving back to your local economy. \nOn Small Business Saturday when you visit the tasting room\, present a receipt from a Chelan or Manson small business and receive 25% OFF wine and merchandise. \n*the offer is available all weekend long
URL:https://tsillancellars.com/event/small-business-saturday-2/
CATEGORIES:Chelan
ATTACH;FMTTYPE=image/png:https://tsillancellars.com/wp-content/uploads/2025/11/unnamed-2.png
END:VEVENT
BEGIN:VEVENT
DTSTART;TZID=UTC:20251129T120000
DTEND;TZID=UTC:20251129T140000
DTSTAMP:20260421T125406
CREATED:20250827T173550Z
LAST-MODIFIED:20251120T200408Z
UID:44944-1764417600-1764424800@tsillancellars.com
SUMMARY:Live Music: Chris Anderson
DESCRIPTION:
URL:https://tsillancellars.com/event/live-music-chris-anderson-5/
LOCATION:Tsillan Cellars Tasting Room
CATEGORIES:Chelan
ATTACH;FMTTYPE=image/jpeg:https://tsillancellars.com/wp-content/uploads/2025/08/Chris-Anderson.jpg
END:VEVENT
END:VCALENDAR